BEGIN:VCALENDAR
VERSION:2.0
PRODID:-//Licking County Radio Control Club Ohio - ECPv6.15.20//NONSGML v1.0//EN
CALSCALE:GREGORIAN
METHOD:PUBLISH
X-WR-CALNAME:Licking County Radio Control Club Ohio
X-ORIGINAL-URL:https://lcrccohio.com
X-WR-CALDESC:Events for Licking County Radio Control Club Ohio
REFRESH-INTERVAL;VALUE=DURATION:PT1H
X-Robots-Tag:noindex
X-PUBLISHED-TTL:PT1H
BEGIN:VTIMEZONE
TZID:America/New_York
BEGIN:DAYLIGHT
TZOFFSETFROM:-0500
TZOFFSETTO:-0400
TZNAME:EDT
DTSTART:20250309T070000
END:DAYLIGHT
BEGIN:STANDARD
TZOFFSETFROM:-0400
TZOFFSETTO:-0500
TZNAME:EST
DTSTART:20251102T060000
END:STANDARD
BEGIN:DAYLIGHT
TZOFFSETFROM:-0500
TZOFFSETTO:-0400
TZNAME:EDT
DTSTART:20260308T070000
END:DAYLIGHT
BEGIN:STANDARD
TZOFFSETFROM:-0400
TZOFFSETTO:-0500
TZNAME:EST
DTSTART:20261101T060000
END:STANDARD
BEGIN:DAYLIGHT
TZOFFSETFROM:-0500
TZOFFSETTO:-0400
TZNAME:EDT
DTSTART:20270314T070000
END:DAYLIGHT
BEGIN:STANDARD
TZOFFSETFROM:-0400
TZOFFSETTO:-0500
TZNAME:EST
DTSTART:20271107T060000
END:STANDARD
END:VTIMEZONE
BEGIN:VEVENT
DTSTART;TZID=America/New_York:20260430T183000
DTEND;TZID=America/New_York:20260430T193000
DTSTAMP:20260423T093824
CREATED:20220328T175730Z
LAST-MODIFIED:20260329T164701Z
UID:3163-1777573800-1777577400@lcrccohio.com
SUMMARY:April Club Meeting
DESCRIPTION:The December Club meeting  will be at the Heath Church of Christ at 6:30pm. It is located at 1331 Chapel Way\, Heath Ohio. \n  \n 
URL:https://lcrccohio.com/event/april-club-meeting/
LOCATION:Heath Church of Crist
CATEGORIES:Meetings
ATTACH;FMTTYPE=image/webp:https://lcrccohio.com/wp-content/uploads/2022/07/Church-Logo-1.webp
END:VEVENT
BEGIN:VEVENT
DTSTART;TZID=America/New_York:20260516T080000
DTEND;TZID=America/New_York:20260516T170000
DTSTAMP:20260423T093824
CREATED:20240425T150430Z
LAST-MODIFIED:20260329T164452Z
UID:4129-1778918400-1778950800@lcrccohio.com
SUMMARY:OSU Airport Youth Aviation Adventure
DESCRIPTION:Youth Aviation Adventure educational outreach at OSU Airport\, Saturday  \nVOLUNTEERS NEEDED!
URL:https://lcrccohio.com/event/osu-airport-youth-aviation-adventure/
LOCATION:Ohio State Uveity Aipo\, https://www.youthaviationadventure.org/events/\, columbus\, OH\, 43235\, United States
CATEGORIES:Education
ATTACH;FMTTYPE=image/webp:https://lcrccohio.com/wp-content/uploads/2024/04/youth-aviation-adventure-logo.webp
END:VEVENT
BEGIN:VEVENT
DTSTART;TZID=America/New_York:20260517T130000
DTEND;TZID=America/New_York:20260517T160000
DTSTAMP:20260423T093824
CREATED:20220212T160130Z
LAST-MODIFIED:20260329T164416Z
UID:2996-1779022800-1779033600@lcrccohio.com
SUMMARY:Phil Van Winkle Fun Fly
DESCRIPTION:
URL:https://lcrccohio.com/event/may-fun-fly/
LOCATION:LCRCC Field
CATEGORIES:Fun Fly
ATTACH;FMTTYPE=image/jpeg:https://lcrccohio.com/wp-content/uploads/2022/02/Phil-van-Winkle-Image.jpg
END:VEVENT
BEGIN:VEVENT
DTSTART;TZID=America/New_York:20260528T193000
DTEND;TZID=America/New_York:20260528T203000
DTSTAMP:20260423T093824
CREATED:20220328T175950Z
LAST-MODIFIED:20260329T164350Z
UID:3165-1779996600-1780000200@lcrccohio.com
SUMMARY:May Club Meeting
DESCRIPTION:The May Club meeting will be at the field at 130 Ecology Rd\, Newark\, Ohio.
URL:https://lcrccohio.com/event/may-club-meeting/
LOCATION:LCRCC Field
CATEGORIES:Meetings
ATTACH;FMTTYPE=image/jpeg:https://lcrccohio.com/wp-content/uploads/2024/11/lcrc-sign.jpg
END:VEVENT
BEGIN:VEVENT
DTSTART;TZID=America/New_York:20260614T130000
DTEND;TZID=America/New_York:20260614T160000
DTSTAMP:20260423T093824
CREATED:20220328T180349Z
LAST-MODIFIED:20260329T164315Z
UID:3168-1781442000-1781452800@lcrccohio.com
SUMMARY:June Fun Fly
DESCRIPTION:
URL:https://lcrccohio.com/event/june-fun-fly/
LOCATION:LCRCC Field
CATEGORIES:Fun Fly
ATTACH;FMTTYPE=image/jpeg:https://lcrccohio.com/wp-content/uploads/2024/11/1_IMGP0218.jpg
END:VEVENT
BEGIN:VEVENT
DTSTART;VALUE=DATE:20260619
DTEND;VALUE=DATE:20260623
DTSTAMP:20260423T093824
CREATED:20240425T150853Z
LAST-MODIFIED:20260329T163922Z
UID:4133-1781827200-1782172799@lcrccohio.com
SUMMARY:Columbus Air Show STEM Tent
DESCRIPTION:
URL:https://lcrccohio.com/event/columbus-air-show-stem-tent/
CATEGORIES:Education
ATTACH;FMTTYPE=image/jpeg:https://lcrccohio.com/wp-content/uploads/2024/04/Blue-Angels.jpg
END:VEVENT
BEGIN:VEVENT
DTSTART;TZID=America/New_York:20260625T193000
DTEND;TZID=America/New_York:20260625T203000
DTSTAMP:20260423T093824
CREATED:20220526T160450Z
LAST-MODIFIED:20260329T164243Z
UID:3315-1782415800-1782419400@lcrccohio.com
SUMMARY:June Club Meeting
DESCRIPTION:The June Club meeting will be at the field at 130 Ecology Rd\, Newark\, Ohio.
URL:https://lcrccohio.com/event/june-club-meeting/
LOCATION:LCRCC Field
CATEGORIES:Meetings
ATTACH;FMTTYPE=image/jpeg:https://lcrccohio.com/wp-content/uploads/2024/11/lcrc-sign.jpg
END:VEVENT
BEGIN:VEVENT
DTSTART;TZID=America/New_York:20260719T130000
DTEND;TZID=America/New_York:20260719T160000
DTSTAMP:20260423T093824
CREATED:20220526T155714Z
LAST-MODIFIED:20260329T164204Z
UID:3310-1784466000-1784476800@lcrccohio.com
SUMMARY:July Fun Fly
DESCRIPTION:
URL:https://lcrccohio.com/event/july-fun-fly/
LOCATION:LCRCC Field
CATEGORIES:Fun Fly
ATTACH;FMTTYPE=image/jpeg:https://lcrccohio.com/wp-content/uploads/2024/11/69336336_10214479318830273_4178996397254639616_o.jpg
END:VEVENT
BEGIN:VEVENT
DTSTART;VALUE=DATE:20260729
DTEND;VALUE=DATE:20260810
DTSTAMP:20260423T093824
CREATED:20250721T125138Z
LAST-MODIFIED:20260329T164122Z
UID:4844-1785283200-1786319999@lcrccohio.com
SUMMARY:Ohio State Fair - COSI Innovation Booth
DESCRIPTION:LCRCC will have a booth with the COSI Innovation group.
URL:https://lcrccohio.com/event/ohio-state-fair-cosi-innovation-booth/
LOCATION:Ohio State Fair – COSI Bld.\, 11th ave\, Columbus\, Ohio
CATEGORIES:Education
ATTACH;FMTTYPE=image/png:https://lcrccohio.com/wp-content/uploads/2025/07/ohio-state-fair.png
END:VEVENT
BEGIN:VEVENT
DTSTART;TZID=America/New_York:20260730T193000
DTEND;TZID=America/New_York:20260730T203000
DTSTAMP:20260423T093824
CREATED:20220526T161000Z
LAST-MODIFIED:20260329T164020Z
UID:3317-1785439800-1785443400@lcrccohio.com
SUMMARY:July Club Meeting
DESCRIPTION:The July Club meeting will be at the field at 130 Ecology Rd\, Newark\, Ohio.
URL:https://lcrccohio.com/event/july-club-meeting/
LOCATION:LCRCC Field
CATEGORIES:Meetings
ATTACH;FMTTYPE=image/jpeg:https://lcrccohio.com/wp-content/uploads/2024/11/lcrc-sign.jpg
END:VEVENT
BEGIN:VEVENT
DTSTART;TZID=America/New_York:20260816T130000
DTEND;TZID=America/New_York:20260816T160000
DTSTAMP:20260423T093824
CREATED:20220526T161410Z
LAST-MODIFIED:20260329T163952Z
UID:3319-1786885200-1786896000@lcrccohio.com
SUMMARY:August Fun Fly
DESCRIPTION:
URL:https://lcrccohio.com/event/august-fun-fly/
LOCATION:LCRCC Field
CATEGORIES:Fun Fly
ATTACH;FMTTYPE=image/jpeg:https://lcrccohio.com/wp-content/uploads/2024/11/1_IMGP0218.jpg
END:VEVENT
BEGIN:VEVENT
DTSTART;TZID=America/New_York:20260827T193000
DTEND;TZID=America/New_York:20260827T203000
DTSTAMP:20260423T093824
CREATED:20220526T161519Z
LAST-MODIFIED:20260329T163807Z
UID:3321-1787859000-1787862600@lcrccohio.com
SUMMARY:August Club Meeting
DESCRIPTION:The August Club meeting will be at the field at 130 Ecology Rd\, Newark\, Ohio.
URL:https://lcrccohio.com/event/august-club-meeting/
CATEGORIES:Meetings
ATTACH;FMTTYPE=image/jpeg:https://lcrccohio.com/wp-content/uploads/2024/11/lcrc-sign.jpg
END:VEVENT
BEGIN:VEVENT
DTSTART;TZID=America/New_York:20260913T130000
DTEND;TZID=America/New_York:20260913T160000
DTSTAMP:20260423T093824
CREATED:20220729T165848Z
LAST-MODIFIED:20260329T163723Z
UID:3428-1789304400-1789315200@lcrccohio.com
SUMMARY:September Fun Fly
DESCRIPTION:
URL:https://lcrccohio.com/event/september-fun-fly/
LOCATION:LCRCC Field
CATEGORIES:Fun Fly
ATTACH;FMTTYPE=image/jpeg:https://lcrccohio.com/wp-content/uploads/2024/11/69336336_10214479318830273_4178996397254639616_o.jpg
END:VEVENT
BEGIN:VEVENT
DTSTART;TZID=America/New_York:20260924T193000
DTEND;TZID=America/New_York:20260924T203000
DTSTAMP:20260423T093824
CREATED:20220729T170226Z
LAST-MODIFIED:20260329T163623Z
UID:3430-1790278200-1790281800@lcrccohio.com
SUMMARY:September Club Meeting
DESCRIPTION:The September Club meeting will be at the field.
URL:https://lcrccohio.com/event/september-club-meeting/
LOCATION:LCRCC Field
CATEGORIES:Meetings
ATTACH;FMTTYPE=image/jpeg:https://lcrccohio.com/wp-content/uploads/2024/11/lcrc-sign.jpg
END:VEVENT
BEGIN:VEVENT
DTSTART;TZID=America/New_York:20261029T183000
DTEND;TZID=America/New_York:20261029T193000
DTSTAMP:20260423T093825
CREATED:20220729T170455Z
LAST-MODIFIED:20260329T163534Z
UID:3432-1793298600-1793302200@lcrccohio.com
SUMMARY:October Club Meeting
DESCRIPTION:The October Club meeting  will be at the Heath Church of Christ at 6:30pm. It is located at 1331 Chapel Way\, Heath Ohio.
URL:https://lcrccohio.com/event/october-club-meeting/
LOCATION:Heath Church of Crist
CATEGORIES:Meetings
ATTACH;FMTTYPE=image/webp:https://lcrccohio.com/wp-content/uploads/2022/07/Church-Logo-1.webp
END:VEVENT
BEGIN:VEVENT
DTSTART;TZID=America/New_York:20261119T183000
DTEND;TZID=America/New_York:20261119T193000
DTSTAMP:20260423T093825
CREATED:20220729T170559Z
LAST-MODIFIED:20260329T163503Z
UID:3434-1795113000-1795116600@lcrccohio.com
SUMMARY:November Club Meeting
DESCRIPTION:The November Club meeting  will be at the Heath Church of Christ at 6:30pm. It is located at 1331 Chapel Way\, Heath Ohio. \n 
URL:https://lcrccohio.com/event/november-club-meeting/
LOCATION:Heath Church of Crist
CATEGORIES:Meetings
ATTACH;FMTTYPE=image/webp:https://lcrccohio.com/wp-content/uploads/2022/07/Church-Logo-1.webp
END:VEVENT
BEGIN:VEVENT
DTSTART;TZID=America/New_York:20261217T183000
DTEND;TZID=America/New_York:20261217T193000
DTSTAMP:20260423T093825
CREATED:20221124T021555Z
LAST-MODIFIED:20260329T163417Z
UID:3784-1797532200-1797535800@lcrccohio.com
SUMMARY:December Club Meeting
DESCRIPTION:The December Club meeting  will be at the Heath Church of Christ at 6:30pm. It is located at 1331 Chapel Way\, Heath Ohio. \n 
URL:https://lcrccohio.com/event/december-club-meeting/
LOCATION:Heath Church of Crist
CATEGORIES:Meetings
ATTACH;FMTTYPE=image/webp:https://lcrccohio.com/wp-content/uploads/2022/07/Church-Logo-1.webp
END:VEVENT
END:VCALENDAR